BEGIN:VCALENDAR
VERSION:2.0
PRODID:-//SLAYER Espresso - ECPv6.15.20//NONSGML v1.0//EN
CALSCALE:GREGORIAN
METHOD:PUBLISH
X-WR-CALNAME:SLAYER Espresso
X-ORIGINAL-URL:https://slayerespresso.com
X-WR-CALDESC:Events for SLAYER Espresso
REFRESH-INTERVAL;VALUE=DURATION:PT1H
X-Robots-Tag:noindex
X-PUBLISHED-TTL:PT1H
BEGIN:VTIMEZONE
TZID:Pacific/Auckland
BEGIN:STANDARD
TZOFFSETFROM:+1300
TZOFFSETTO:+1200
TZNAME:NZST
DTSTART:20240406T140000
END:STANDARD
BEGIN:DAYLIGHT
TZOFFSETFROM:+1200
TZOFFSETTO:+1300
TZNAME:NZDT
DTSTART:20240928T140000
END:DAYLIGHT
BEGIN:STANDARD
TZOFFSETFROM:+1300
TZOFFSETTO:+1200
TZNAME:NZST
DTSTART:20250405T140000
END:STANDARD
BEGIN:DAYLIGHT
TZOFFSETFROM:+1200
TZOFFSETTO:+1300
TZNAME:NZDT
DTSTART:20250927T140000
END:DAYLIGHT
BEGIN:STANDARD
TZOFFSETFROM:+1300
TZOFFSETTO:+1200
TZNAME:NZST
DTSTART:20260404T140000
END:STANDARD
BEGIN:DAYLIGHT
TZOFFSETFROM:+1200
TZOFFSETTO:+1300
TZNAME:NZDT
DTSTART:20260926T140000
END:DAYLIGHT
END:VTIMEZONE
BEGIN:VEVENT
DTSTART;VALUE=DATE:20250227
DTEND;VALUE=DATE:20250228
DTSTAMP:20260420T025408
CREATED:20250212T002748Z
LAST-MODIFIED:20250212T003027Z
UID:16593-1740614400-1740700799@slayerespresso.com
SUMMARY:SLAYER Espresso Rally - NZ
DESCRIPTION:SLAYER is launching a new mixed-barista-skills competition in Asia-Pacific\, the SLAYER Espresso Rally! \nOne lucky winner per regional competition will throw down against APAC’s best baristas during World of Coffee Jakarta for a crack at wining a brand-new SLAYER Steam Single. \nKeen on winning a trip to Indonesia? Our NZ partner\, Machine Ltd.\, is hosting the first regional competition on February 27\, giving 20 baristas the chance to go head-to-head with NZ’s best. \nThe winner of this competition will take home tickets to compete in the Grand Final during World of Coffee in Jakarta (flights & accommodation included)\, where they’ll battle it out for a the new SLAYER Steam Single. \nHead to the Eventbrite page to RSVP. We can’t wait to see you there! \nSLAYER Espresso Rally – NZ\nMachine Ltd.\nFebruary 27\, 5:00 PM – 9:00 PM NZDT
URL:https://slayerespresso.com/event/slayer-espresso-rally-nz/
END:VEVENT
END:VCALENDAR